BEGIN:VCALENDAR
VERSION:2.0
PRODID:-//risc - ECPv6.15.20//NONSGML v1.0//EN
CALSCALE:GREGORIAN
METHOD:PUBLISH
X-WR-CALNAME:risc
X-ORIGINAL-URL:https://risc.org.uk
X-WR-CALDESC:Events for risc
REFRESH-INTERVAL;VALUE=DURATION:PT1H
X-Robots-Tag:noindex
X-PUBLISHED-TTL:PT1H
BEGIN:VTIMEZONE
TZID:UTC
BEGIN:STANDARD
TZOFFSETFROM:+0000
TZOFFSETTO:+0000
TZNAME:UTC
DTSTART:20180101T000000
END:STANDARD
END:VTIMEZONE
BEGIN:VEVENT
DTSTART;VALUE=DATE:20191219
DTEND;VALUE=DATE:20191220
DTSTAMP:20260420T070544
CREATED:20241030T072647Z
LAST-MODIFIED:20241030T072647Z
UID:959-1576713600-1576799999@risc.org.uk
SUMMARY:risc book club: the lime tree
DESCRIPTION:By César Aira – In the town square of Coronel Pringles stands a lime tree from which the author’s father used to brew a sedative tea. This Proustian infusion evokes dark memories of the 1955 anti-Perónist revolution\, which dashed the family’s middle-class dreams. The Lime Tree is a portrait of the artist as a child and a lucid analysis of a family’s social trajectory. 256pp
URL:https://risc.org.uk/events/risc-book-club-the-lime-tree/
CATEGORIES:book club
ATTACH;FMTTYPE=image/jpeg:https://risc.org.uk/wp-content/uploads/2024/10/book-the-lime-tree.jpg
END:VEVENT
BEGIN:VEVENT
DTSTART;VALUE=DATE:20200130
DTEND;VALUE=DATE:20200131
DTSTAMP:20260420T070544
CREATED:20241030T072733Z
LAST-MODIFIED:20241030T072743Z
UID:962-1580342400-1580428799@risc.org.uk
SUMMARY:risc book club: paradise
DESCRIPTION:By Toni Morrison – Spanning the birth of the Civil Rights movement\, Vietnam\, the counter-culture and politics of the late 1970s\, deftly manipulating past\, present and future\, this novel reveals the interior lives of the citizens of the town with astonishing clarity. Starkly evoking the clashes that have bedevilled the American century: between race and racelessness; religion and magic; promiscuity and fidelity; individuality and belonging. pp336
URL:https://risc.org.uk/events/risc-book-club-paradise/
CATEGORIES:book club
ATTACH;FMTTYPE=image/jpeg:https://risc.org.uk/wp-content/uploads/2024/10/book-paradise.jpg
END:VEVENT
BEGIN:VEVENT
DTSTART;VALUE=DATE:20200227
DTEND;VALUE=DATE:20200228
DTSTAMP:20260420T070544
CREATED:20241030T072836Z
LAST-MODIFIED:20241030T072836Z
UID:966-1582761600-1582847999@risc.org.uk
SUMMARY:risc book club: our women on the ground
DESCRIPTION:By Zahra Hankir – Nineteen Arab women journalists speak out about what it’s like to report on their changing homelands in this first-of-its-kind essay collection\, with a foreword by CNN chief international anchor Christiane Amanpour. 304pp
URL:https://risc.org.uk/events/risc-book-club-our-women-on-the-ground/
CATEGORIES:book club
ATTACH;FMTTYPE=image/jpeg:https://risc.org.uk/wp-content/uploads/2024/10/book-our-women-on-the-ground.jpg
END:VEVENT
BEGIN:VEVENT
DTSTART;VALUE=DATE:20200326
DTEND;VALUE=DATE:20200327
DTSTAMP:20260420T070544
CREATED:20241030T072917Z
LAST-MODIFIED:20241030T073118Z
UID:969-1585180800-1585267199@risc.org.uk
SUMMARY:risc book club: stories from the romani world
DESCRIPTION:By Janna Eliot – Spokes is made up of stories from across the Traveller world\, featuring British Gypsies\, settled and still travelling; Irish Travellers\, East European Roma; and people whose Romani background has remained under wraps in the face of a hostile world. There’s an old violinist\, a middle-aged mechanic\, a young radio presenter\, a schoolboy\, a retired banker\, a tealady and a teacher. Sometimes humorous\, sometimes tragic; every story is based on real incidents.
URL:https://risc.org.uk/events/risc-book-club-stories-from-the-romani-world/
CATEGORIES:book club
ATTACH;FMTTYPE=image/jpeg:https://risc.org.uk/wp-content/uploads/2024/10/book-stories-from-the-romani-world.jpg
END:VEVENT
BEGIN:VEVENT
DTSTART;VALUE=DATE:20200430
DTEND;VALUE=DATE:20200501
DTSTAMP:20260420T070544
CREATED:20241030T073014Z
LAST-MODIFIED:20241030T073014Z
UID:971-1588204800-1588291199@risc.org.uk
SUMMARY:risc book club: the sound of things falling
DESCRIPTION:By Juan Gabriel Vásquez – No sooner does he get to know Ricardo Laverde in a seedy billiard hall in Bogotá than Antonio Yammara realises that the ex-pilot has a secret. Antonio’s fascination with his new friend’s life grows until the day Ricardo receives a mysterious\, unmarked cassette. Shortly afterwards\, he is shot dead on a street corner. Yammara’s investigation into what happened leads back to the early 1960s\, marijuana smuggling and a time before the cocaine trade trapped Colombia in a living nightmare.
URL:https://risc.org.uk/events/risc-book-club-the-sound-of-things-falling/
CATEGORIES:book club
ATTACH;FMTTYPE=image/jpeg:https://risc.org.uk/wp-content/uploads/2024/10/book-the-sound-of-things-falling.jpg
END:VEVENT
END:VCALENDAR